BEGIN:VCALENDAR
VERSION:2.0
PRODID:-//Elgo Heels - ECPv6.3.6//NONSGML v1.0//EN
CALSCALE:GREGORIAN
METHOD:PUBLISH
X-WR-CALNAME:Elgo Heels
X-ORIGINAL-URL:https://elgo-heels.com
X-WR-CALDESC:évènements pour Elgo Heels
REFRESH-INTERVAL;VALUE=DURATION:PT1H
X-Robots-Tag:noindex
X-PUBLISHED-TTL:PT1H
BEGIN:VTIMEZONE
TZID:Europe/Paris
BEGIN:DAYLIGHT
TZOFFSETFROM:+0100
TZOFFSETTO:+0200
TZNAME:CEST
DTSTART:20240331T010000
END:DAYLIGHT
BEGIN:STANDARD
TZOFFSETFROM:+0200
TZOFFSETTO:+0100
TZNAME:CET
DTSTART:20241027T010000
END:STANDARD
BEGIN:DAYLIGHT
TZOFFSETFROM:+0100
TZOFFSETTO:+0200
TZNAME:CEST
DTSTART:20250330T010000
END:DAYLIGHT
BEGIN:STANDARD
TZOFFSETFROM:+0200
TZOFFSETTO:+0100
TZNAME:CET
DTSTART:20251026T010000
END:STANDARD
END:VTIMEZONE
BEGIN:VEVENT
DTSTART;TZID=Europe/Paris:20250825T193000
DTEND;TZID=Europe/Paris:20250825T203000
DTSTAMP:20260425T200246
CREATED:20240819T122302Z
LAST-MODIFIED:20240819T122424Z
UID:10023041-1756150200-1756153800@elgo-heels.com
SUMMARY:Cours les Lundis avec Alicia à Villefontaine (38)
DESCRIPTION:La plupart des cours réguliers sont soumis aux vacances scolaires : nous vous conseillons de contacter la Meneuse en amont de votre participation.
URL:https://elgo-heels.com/events-elgo/cours-les-lundis-avec-alicia-a-villefontaine-38/2025-08-25/
LOCATION:Tonic Gym (38)\, 8 Av. des Pins\, Villefontaine\, 38090\, France
CATEGORIES:Cours Power,Cours régulier
ATTACH;FMTTYPE=image/png:https://elgo-heels.com/wp-content/uploads/2024/08/Alicia.png
ORGANIZER;CN="Alicia":MAILTO:alicia188@elgo-dance.com
GEO:45.6024089;5.1467361
X-APPLE-STRUCTURED-LOCATION;VALUE=URI;X-ADDRESS=Tonic Gym (38) 8 Av. des Pins Villefontaine 38090 France;X-APPLE-RADIUS=500;X-TITLE=8 Av. des Pins:geo:5.1467361,45.6024089
END:VEVENT
BEGIN:VEVENT
DTSTART;TZID=Europe/Paris:20240701T193000
DTEND;TZID=Europe/Paris:20240701T203000
DTSTAMP:20260425T200246
CREATED:20230906T135122Z
LAST-MODIFIED:20230906T135122Z
UID:10018232-1719862200-1719865800@elgo-heels.com
SUMMARY:Cours le lundi avec Alicia à Villefontaine (38)
DESCRIPTION:
URL:https://elgo-heels.com/events-elgo/cours-le-lundi-avec-alicia-a-villefontaine-38/2024-07-01/
LOCATION:Tonic Gym (38)\, 8 Av. des Pins\, Villefontaine\, 38090\, France
CATEGORIES:Cours Power,Cours régulier
ATTACH;FMTTYPE=image/png:https://elgo-heels.com/wp-content/uploads/2023/04/Alicia.png
ORGANIZER;CN="Alicia":MAILTO:alicia188@elgo-dance.com
GEO:45.6024089;5.1467361
X-APPLE-STRUCTURED-LOCATION;VALUE=URI;X-ADDRESS=Tonic Gym (38) 8 Av. des Pins Villefontaine 38090 France;X-APPLE-RADIUS=500;X-TITLE=8 Av. des Pins:geo:5.1467361,45.6024089
END:VEVENT
BEGIN:VEVENT
DTSTART;TZID=Europe/Paris:20240120T160000
DTEND;TZID=Europe/Paris:20240120T170000
DTSTAMP:20260425T200246
CREATED:20240109T121741Z
LAST-MODIFIED:20240109T121741Z
UID:10018671-1705766400-1705770000@elgo-heels.com
SUMMARY:Cours avec Alicia à Villefontaine (38)
DESCRIPTION:
URL:https://elgo-heels.com/events-elgo/cours-avec-alicia-a-villefontaine-38-2/
LOCATION:Tonic Gym (38)\, 8 Av. des Pins\, Villefontaine\, 38090\, France
CATEGORIES:Stages & Évènements,Stages & Évènements Dance
ATTACH;FMTTYPE=image/png:https://elgo-heels.com/wp-content/uploads/2023/04/Alicia.png
ORGANIZER;CN="Alicia":MAILTO:alicia188@elgo-dance.com
GEO:45.6024089;5.1467361
X-APPLE-STRUCTURED-LOCATION;VALUE=URI;X-ADDRESS=Tonic Gym (38) 8 Av. des Pins Villefontaine 38090 France;X-APPLE-RADIUS=500;X-TITLE=8 Av. des Pins:geo:5.1467361,45.6024089
END:VEVENT
BEGIN:VEVENT
DTSTART;TZID=Europe/Paris:20240120T100000
DTEND;TZID=Europe/Paris:20240120T110000
DTSTAMP:20260425T200246
CREATED:20240109T121656Z
LAST-MODIFIED:20240109T121656Z
UID:10018670-1705744800-1705748400@elgo-heels.com
SUMMARY:Cours avec Alicia à Villefontaine (38)
DESCRIPTION:
URL:https://elgo-heels.com/events-elgo/cours-avec-alicia-a-villefontaine-38/
LOCATION:Tonic Gym (38)\, 8 Av. des Pins\, Villefontaine\, 38090\, France
CATEGORIES:Stages & Évènements,Stages & Évènements Power
ATTACH;FMTTYPE=image/png:https://elgo-heels.com/wp-content/uploads/2023/04/Alicia.png
ORGANIZER;CN="Alicia":MAILTO:alicia188@elgo-dance.com
GEO:45.6024089;5.1467361
X-APPLE-STRUCTURED-LOCATION;VALUE=URI;X-ADDRESS=Tonic Gym (38) 8 Av. des Pins Villefontaine 38090 France;X-APPLE-RADIUS=500;X-TITLE=8 Av. des Pins:geo:5.1467361,45.6024089
END:VEVENT
END:VCALENDAR