BEGIN:VCALENDAR
VERSION:2.0
PRODID:-//Elgo Heels - ECPv6.3.6//NONSGML v1.0//EN
CALSCALE:GREGORIAN
METHOD:PUBLISH
X-WR-CALNAME:Elgo Heels
X-ORIGINAL-URL:https://elgo-heels.com
X-WR-CALDESC:évènements pour Elgo Heels
REFRESH-INTERVAL;VALUE=DURATION:PT1H
X-Robots-Tag:noindex
X-PUBLISHED-TTL:PT1H
BEGIN:VTIMEZONE
TZID:Europe/Paris
BEGIN:DAYLIGHT
TZOFFSETFROM:+0100
TZOFFSETTO:+0200
TZNAME:CEST
DTSTART:20210328T010000
END:DAYLIGHT
BEGIN:STANDARD
TZOFFSETFROM:+0200
TZOFFSETTO:+0100
TZNAME:CET
DTSTART:20211031T010000
END:STANDARD
BEGIN:DAYLIGHT
TZOFFSETFROM:+0100
TZOFFSETTO:+0200
TZNAME:CEST
DTSTART:20220327T010000
END:DAYLIGHT
BEGIN:STANDARD
TZOFFSETFROM:+0200
TZOFFSETTO:+0100
TZNAME:CET
DTSTART:20221030T010000
END:STANDARD
END:VTIMEZONE
BEGIN:VEVENT
DTSTART;TZID=Europe/Paris:20220212T110000
DTEND;TZID=Europe/Paris:20220212T123000
DTSTAMP:20260421T163115
CREATED:20220209T164625Z
LAST-MODIFIED:20220209T164625Z
UID:10007905-1644663600-1644669000@elgo-heels.com
SUMMARY:Stage avec Cindy à Malaga (29)
DESCRIPTION:
URL:https://elgo-heels.com/events-elgo/stage-avec-cindy-a-malaga-29-2/
LOCATION:Sparta Sport\, Ctra. de Arenas\, 15\, Vélez-Málaga\, 29700\, Espagne
CATEGORIES:Stages & Évènements,Stages & Évènements Dance
ATTACH;FMTTYPE=image/jpeg:https://elgo-heels.com/wp-content/uploads/2022/02/stage-cindy-dance-12fev2022.jpg
ORGANIZER;CN="Cindy Coach":MAILTO:cindycoach134@elgo-dance.com
GEO:36.7794926;-4.0985791
X-APPLE-STRUCTURED-LOCATION;VALUE=URI;X-ADDRESS=Sparta Sport Ctra. de Arenas 15 Vélez-Málaga 29700 Espagne;X-APPLE-RADIUS=500;X-TITLE=Ctra. de Arenas\, 15:geo:-4.0985791,36.7794926
END:VEVENT
BEGIN:VEVENT
DTSTART;TZID=Europe/Paris:20211106T103000
DTEND;TZID=Europe/Paris:20211106T120000
DTSTAMP:20260421T163115
CREATED:20211104T094428Z
LAST-MODIFIED:20211104T094428Z
UID:10013688-1636194600-1636200000@elgo-heels.com
SUMMARY:LANZAMIENTO DEL CONCEPTO EN ESPAÑA (29)
DESCRIPTION:LANZAMIENTO DEL CONCEPTO EN ESPAÑA \n\n\n ELGO se lanza por primera vez en España con público español\, gracias a su líder Cindy Calmels que se traslada a Andalucía \n\n\n Luna (creadora del concepto) llena de ilusión también formará parte del viaje!\n\n\n Así que busca a Cindy Calmels y Elgo Luna:\n\n\n ️ SÁBADO 6 DE NOVIEMBRE\n De 10:30 a.m. a 12 p.m.\n Sparta Sport Ctra. Desde Arenas\, Vélez Málaga\n\n\n Elgo está instalado en todas partes …
URL:https://elgo-heels.com/events-elgo/lanzamiento-del-concepto-en-espana-29/
LOCATION:Sparta Sport\, Ctra. de Arenas\, 15\, Vélez-Málaga\, 29700\, Espagne
CATEGORIES:Stages & Évènements,Stages & Évènements Dance
ATTACH;FMTTYPE=image/jpeg:https://elgo-heels.com/wp-content/uploads/2021/11/cours-cindy-luna-dance-6nov2021.jpg
ORGANIZER;CN="Cindy Coach":MAILTO:cindycoach134@elgo-dance.com
GEO:36.7794926;-4.0985791
X-APPLE-STRUCTURED-LOCATION;VALUE=URI;X-ADDRESS=Sparta Sport Ctra. de Arenas 15 Vélez-Málaga 29700 Espagne;X-APPLE-RADIUS=500;X-TITLE=Ctra. de Arenas\, 15:geo:-4.0985791,36.7794926
END:VEVENT
END:VCALENDAR