BEGIN:VCALENDAR
VERSION:2.0
PRODID:-//Elgo Heels - ECPv6.3.6//NONSGML v1.0//EN
CALSCALE:GREGORIAN
METHOD:PUBLISH
X-ORIGINAL-URL:https://elgo-heels.com
X-WR-CALDESC:évènements pour Elgo Heels
REFRESH-INTERVAL;VALUE=DURATION:PT1H
X-Robots-Tag:noindex
X-PUBLISHED-TTL:PT1H
BEGIN:VTIMEZONE
TZID:Europe/Helsinki
BEGIN:DAYLIGHT
TZOFFSETFROM:+0200
TZOFFSETTO:+0300
TZNAME:EEST
DTSTART:20190331T010000
END:DAYLIGHT
BEGIN:STANDARD
TZOFFSETFROM:+0300
TZOFFSETTO:+0200
TZNAME:EET
DTSTART:20191027T010000
END:STANDARD
END:VTIMEZONE
BEGIN:VEVENT
DTSTART;TZID=Europe/Helsinki:20190822T203000
DTEND;TZID=Europe/Helsinki:20190822T220000
DTSTAMP:20260424T191234
CREATED:20190807T200340Z
LAST-MODIFIED:20190807T200505Z
UID:10006616-1566505800-1566511200@elgo-heels.com
SUMMARY:Stage avec Sandra à Saintes
DESCRIPTION:
URL:https://elgo-heels.com/events-elgo/stage-avec-sandra-a-saintes/
LOCATION:So Pole\, 11 rue porte aiguière\, Saintes\, 17100\, France
CATEGORIES:Stages & Évènements,Stages & Évènements Dance
ATTACH;FMTTYPE=image/jpeg:https://elgo-heels.com/wp-content/uploads/2016/08/Sandra-2.jpeg
ORGANIZER;CN="Sandra17":MAILTO:sandra98@elgo-dance.com
GEO:45.746658;-0.6341291
X-APPLE-STRUCTURED-LOCATION;VALUE=URI;X-ADDRESS=So Pole 11 rue porte aiguière Saintes 17100 France;X-APPLE-RADIUS=500;X-TITLE=11 rue porte aiguière:geo:-0.6341291,45.746658
END:VEVENT
END:VCALENDAR