BEGIN:VCALENDAR
VERSION:2.0
PRODID:-//Elgo Heels - ECPv6.3.6//NONSGML v1.0//EN
CALSCALE:GREGORIAN
METHOD:PUBLISH
X-WR-CALNAME:Elgo Heels
X-ORIGINAL-URL:https://elgo-heels.com
X-WR-CALDESC:évènements pour Elgo Heels
REFRESH-INTERVAL;VALUE=DURATION:PT1H
X-Robots-Tag:noindex
X-PUBLISHED-TTL:PT1H
BEGIN:VTIMEZONE
TZID:Europe/Paris
BEGIN:DAYLIGHT
TZOFFSETFROM:+0100
TZOFFSETTO:+0200
TZNAME:CEST
DTSTART:20260329T010000
END:DAYLIGHT
BEGIN:STANDARD
TZOFFSETFROM:+0200
TZOFFSETTO:+0100
TZNAME:CET
DTSTART:20261025T010000
END:STANDARD
END:VTIMEZONE
BEGIN:VEVENT
DTSTART;TZID=Europe/Paris:20260308T150000
DTEND;TZID=Europe/Paris:20260308T153000
DTSTAMP:20260422T134137
CREATED:20260221T093430Z
LAST-MODIFIED:20260402T083518Z
UID:10031930-1772982000-1772983800@elgo-heels.com
SUMMARY:Initiation avec Piuma à Tourves (83)
DESCRIPTION:Coucou\,\n\n\nje vous fais part de mon flyer pour mon intervention à une journée bien être à la salle des fêtes de Tourves\, à l’occasion de la journée des droits des femmes.\n\n\nDeux initiations de 30 minutes à 5 euros le dimanche 8 mars de 11h à 11H30 et de 15H à 15H30
URL:https://elgo-heels.com/events-elgo/initiation-avec-piuma-a-tourves-83-2/
LOCATION:Salle Saint-Pierre (83)\, Imp. St Pierre\, Tourves\, 83170\, France
CATEGORIES:Stages & Évènements,Stages & Évènements Dance
ATTACH;FMTTYPE=image/png:https://elgo-heels.com/wp-content/uploads/2023/01/Piuma.png
ORGANIZER;CN="Piuma":MAILTO:Envoleedeplumes@free.fr
GEO:43.4095352;5.9249661
X-APPLE-STRUCTURED-LOCATION;VALUE=URI;X-ADDRESS=Salle Saint-Pierre (83) Imp. St Pierre Tourves 83170 France;X-APPLE-RADIUS=500;X-TITLE=Imp. St Pierre:geo:5.9249661,43.4095352
END:VEVENT
BEGIN:VEVENT
DTSTART;TZID=Europe/Paris:20260308T110000
DTEND;TZID=Europe/Paris:20260308T113000
DTSTAMP:20260422T134137
CREATED:20260221T093304Z
LAST-MODIFIED:20260402T083515Z
UID:10031929-1772967600-1772969400@elgo-heels.com
SUMMARY:Initiation avec Piuma à Tourves (83)
DESCRIPTION:Coucou\,\n\n\nje vous fais part de mon flyer pour mon intervention à une journée bien être à la salle des fêtes de Tourves\, à l’occasion de la journée des droits des femmes.\n\n\nDeux initiations de 30 minutes à 5 euros le dimanche 8 mars de 11h à 11H30 et de 15H à 15H30
URL:https://elgo-heels.com/events-elgo/initiation-avec-piuma-a-tourves-83/
LOCATION:Salle Saint-Pierre (83)\, Imp. St Pierre\, Tourves\, 83170\, France
CATEGORIES:Stages & Évènements,Stages & Évènements Dance
ATTACH;FMTTYPE=image/png:https://elgo-heels.com/wp-content/uploads/2023/01/Piuma.png
ORGANIZER;CN="Piuma":MAILTO:Envoleedeplumes@free.fr
GEO:43.4095352;5.9249661
X-APPLE-STRUCTURED-LOCATION;VALUE=URI;X-ADDRESS=Salle Saint-Pierre (83) Imp. St Pierre Tourves 83170 France;X-APPLE-RADIUS=500;X-TITLE=Imp. St Pierre:geo:5.9249661,43.4095352
END:VEVENT
END:VCALENDAR