BEGIN:VCALENDAR
VERSION:2.0
PRODID:-//Elgo Heels - ECPv6.3.6//NONSGML v1.0//EN
CALSCALE:GREGORIAN
METHOD:PUBLISH
X-WR-CALNAME:Elgo Heels
X-ORIGINAL-URL:https://elgo-heels.com
X-WR-CALDESC:évènements pour Elgo Heels
REFRESH-INTERVAL;VALUE=DURATION:PT1H
X-Robots-Tag:noindex
X-PUBLISHED-TTL:PT1H
BEGIN:VTIMEZONE
TZID:Europe/Paris
BEGIN:DAYLIGHT
TZOFFSETFROM:+0100
TZOFFSETTO:+0200
TZNAME:CEST
DTSTART:20230326T010000
END:DAYLIGHT
BEGIN:STANDARD
TZOFFSETFROM:+0200
TZOFFSETTO:+0100
TZNAME:CET
DTSTART:20231029T010000
END:STANDARD
BEGIN:DAYLIGHT
TZOFFSETFROM:+0100
TZOFFSETTO:+0200
TZNAME:CEST
DTSTART:20240331T010000
END:DAYLIGHT
BEGIN:STANDARD
TZOFFSETFROM:+0200
TZOFFSETTO:+0100
TZNAME:CET
DTSTART:20241027T010000
END:STANDARD
END:VTIMEZONE
BEGIN:VEVENT
DTSTART;TZID=Europe/Paris:20240729T183000
DTEND;TZID=Europe/Paris:20240729T193000
DTSTAMP:20260426T014306
CREATED:20230531T103342Z
LAST-MODIFIED:20240717T085533Z
UID:10019789-1722277800-1722281400@elgo-heels.com
SUMMARY:Cours le lundi avec Piuma à Rougiers (83)
DESCRIPTION:
URL:https://elgo-heels.com/events-elgo/cours-le-lundi-avec-piuma-a-rougiers-83/2024-07-29/
LOCATION:Salle Caudière\, Caudière\, Rougiers\, 83170
CATEGORIES:Cours Dance,Cours régulier
ATTACH;FMTTYPE=image/jpeg:https://elgo-heels.com/wp-content/uploads/2023/05/cours-piuma-dance-lundi-rougiers-1.jpg
ORGANIZER;CN="Piuma":MAILTO:Envoleedeplumes@free.fr
GEO:43.430404;5.9456097
X-APPLE-STRUCTURED-LOCATION;VALUE=URI;X-ADDRESS=Salle Caudière Caudière Rougiers 83170;X-APPLE-RADIUS=500;X-TITLE=Caudière:geo:5.9456097,43.430404
END:VEVENT
BEGIN:VEVENT
DTSTART;TZID=Europe/Paris:20240316T143000
DTEND;TZID=Europe/Paris:20240316T160000
DTSTAMP:20260426T014306
CREATED:20240213T150523Z
LAST-MODIFIED:20240213T150523Z
UID:10013414-1710599400-1710604800@elgo-heels.com
SUMMARY:Stage avec Piuma à Rougiers (83)
DESCRIPTION:Coucou les girls!\nProchain stage spécial cabaret le samedi 16 mars de 14h30 à 16h à la salle caudière à Rougiers.\nTarifs adhérentes 12€ et extérieur 15 €\nDRESS CODE en rouge et noir\nLet’s show!!
URL:https://elgo-heels.com/events-elgo/stage-avec-piuma-a-rougiers-83-2/
LOCATION:Salle Caudière\, Caudière\, Rougiers\, 83170
CATEGORIES:Stages & Évènements,Stages & Évènements Dance
ATTACH;FMTTYPE=image/jpeg:https://elgo-heels.com/wp-content/uploads/2024/02/stage-piuma-dance-16mars2024.jpg
ORGANIZER;CN="Piuma":MAILTO:Envoleedeplumes@free.fr
GEO:43.430404;5.9456097
X-APPLE-STRUCTURED-LOCATION;VALUE=URI;X-ADDRESS=Salle Caudière Caudière Rougiers 83170;X-APPLE-RADIUS=500;X-TITLE=Caudière:geo:5.9456097,43.430404
END:VEVENT
BEGIN:VEVENT
DTSTART;TZID=Europe/Paris:20231014T143000
DTEND;TZID=Europe/Paris:20231014T153000
DTSTAMP:20260426T014306
CREATED:20230915T123133Z
LAST-MODIFIED:20230915T123133Z
UID:10012933-1697293800-1697297400@elgo-heels.com
SUMMARY:Stage avec Piuma à Rougiers (83)
DESCRIPTION:Coucou les filles\,\nJe propose un stage découverte pour les femmes de Rougiers (et villages alentours) qui ne peuvent pas venir au cours du lundi soir.\nStage prévu le samedi 14 octobre de 14H30 à 15h30 à la salle caudière à Rougiers.\nBonne journée à toutes
URL:https://elgo-heels.com/events-elgo/stage-avec-piuma-a-rougiers-83/
LOCATION:Salle Caudière\, Caudière\, Rougiers\, 83170
CATEGORIES:Stages & Évènements,Stages & Évènements Dance
ATTACH;FMTTYPE=image/jpeg:https://elgo-heels.com/wp-content/uploads/2023/09/stage-piuma-dance-14oct2023.jpg
ORGANIZER;CN="Piuma":MAILTO:Envoleedeplumes@free.fr
GEO:43.430404;5.9456097
X-APPLE-STRUCTURED-LOCATION;VALUE=URI;X-ADDRESS=Salle Caudière Caudière Rougiers 83170;X-APPLE-RADIUS=500;X-TITLE=Caudière:geo:5.9456097,43.430404
END:VEVENT
END:VCALENDAR