BEGIN:VCALENDAR
VERSION:2.0
PRODID:-//Elgo Heels - ECPv6.3.6//NONSGML v1.0//EN
CALSCALE:GREGORIAN
METHOD:PUBLISH
X-ORIGINAL-URL:https://elgo-heels.com
X-WR-CALDESC:évènements pour Elgo Heels
REFRESH-INTERVAL;VALUE=DURATION:PT1H
X-Robots-Tag:noindex
X-PUBLISHED-TTL:PT1H
BEGIN:VTIMEZONE
TZID:Europe/Paris
BEGIN:DAYLIGHT
TZOFFSETFROM:+0100
TZOFFSETTO:+0200
TZNAME:CEST
DTSTART:20240331T010000
END:DAYLIGHT
BEGIN:STANDARD
TZOFFSETFROM:+0200
TZOFFSETTO:+0100
TZNAME:CET
DTSTART:20241027T010000
END:STANDARD
END:VTIMEZONE
BEGIN:VEVENT
DTSTART;TZID=Europe/Paris:20240826T200000
DTEND;TZID=Europe/Paris:20240826T210000
DTSTAMP:20260421T192645
CREATED:20240716T174959Z
LAST-MODIFIED:20240716T174959Z
UID:10019194-1724702400-1724706000@elgo-heels.com
SUMMARY:Cours le lundi avec Este Fania à Saint-Maximin-la-Sainte-Baume (83)
DESCRIPTION:
URL:https://elgo-heels.com/events-elgo/cours-le-lundi-avec-este-fania-a-saint-maximin-la-sainte-baume-83-2/2024-08-26/
LOCATION:Salle ANTARES\, 38 impasse des aires\, Saint-Maximin-la-Sainte-Baume\, 83470\, France
CATEGORIES:Cours Dance,Cours régulier
ATTACH;FMTTYPE=image/png:https://elgo-heels.com/wp-content/uploads/2021/12/Estefania-StephanieMartinez.png
ORGANIZER;CN="Este Fania":MAILTO:stephaniezumba@orange.fr
GEO:43.4534591;5.8655029
X-APPLE-STRUCTURED-LOCATION;VALUE=URI;X-ADDRESS=Salle ANTARES 38 impasse des aires Saint-Maximin-la-Sainte-Baume 83470 France;X-APPLE-RADIUS=500;X-TITLE=38 impasse des aires:geo:5.8655029,43.4534591
END:VEVENT
BEGIN:VEVENT
DTSTART;TZID=Europe/Paris:20240826T190000
DTEND;TZID=Europe/Paris:20240826T200000
DTSTAMP:20260421T192645
CREATED:20240716T174015Z
LAST-MODIFIED:20240716T174308Z
UID:10019170-1724698800-1724702400@elgo-heels.com
SUMMARY:Cours le lundi avec Este Fania à Saint-Maximin-la-Sainte-Baume (83)
DESCRIPTION:
URL:https://elgo-heels.com/events-elgo/cours-le-lundi-avec-este-fania-a-saint-maximin-la-sainte-baume-83/2024-08-26/
LOCATION:Salle ANTARES\, 38 impasse des aires\, Saint-Maximin-la-Sainte-Baume\, 83470\, France
CATEGORIES:Cours Power,Cours régulier
ATTACH;FMTTYPE=image/png:https://elgo-heels.com/wp-content/uploads/2021/12/Estefania-StephanieMartinez.png
ORGANIZER;CN="Este Fania":MAILTO:stephaniezumba@orange.fr
GEO:43.4534591;5.8655029
X-APPLE-STRUCTURED-LOCATION;VALUE=URI;X-ADDRESS=Salle ANTARES 38 impasse des aires Saint-Maximin-la-Sainte-Baume 83470 France;X-APPLE-RADIUS=500;X-TITLE=38 impasse des aires:geo:5.8655029,43.4534591
END:VEVENT
END:VCALENDAR