BEGIN:VCALENDAR
VERSION:2.0
PRODID:-//Elgo Heels - ECPv6.3.6//NONSGML v1.0//EN
CALSCALE:GREGORIAN
METHOD:PUBLISH
X-WR-CALNAME:Elgo Heels
X-ORIGINAL-URL:https://elgo-heels.com
X-WR-CALDESC:évènements pour Elgo Heels
REFRESH-INTERVAL;VALUE=DURATION:PT1H
X-Robots-Tag:noindex
X-PUBLISHED-TTL:PT1H
BEGIN:VTIMEZONE
TZID:Europe/Paris
BEGIN:DAYLIGHT
TZOFFSETFROM:+0100
TZOFFSETTO:+0200
TZNAME:CEST
DTSTART:20260329T010000
END:DAYLIGHT
BEGIN:STANDARD
TZOFFSETFROM:+0200
TZOFFSETTO:+0100
TZNAME:CET
DTSTART:20261025T010000
END:STANDARD
END:VTIMEZONE
BEGIN:VEVENT
DTSTART;TZID=Europe/Paris:20260423T210000
DTEND;TZID=Europe/Paris:20260423T223000
DTSTAMP:20260421T201604
CREATED:20260402T103511Z
LAST-MODIFIED:20260402T103511Z
UID:10028270-1776978000-1776983400@elgo-heels.com
SUMMARY:Cours les Jeudis avec Ludivine à Choisy-le-Roi (94)
DESCRIPTION:!! Tout Nouveau dans le 94 – Ecole Semkita’s School !! \nRejoins notre Top Meneuse Ludivine pour 2H de lâcher-prise et sensualité tout en bienveillance\, tous les JEUDIS soirs : \n\n21h à 22h30 : Heels SHOW by Elgo\n\n\n\nTout au long de la séance : une 1ère partie axée sur les Techniques de Heels suivie par une 2nde partie 100% Chorégraphie de danse\, viens découvrir les différents univers du « Heels » by Elgo : entre danse sensuelle en talons (Heels Dance)\, danse sensuelle au sol (Heels Floorwork)\, danse sensuelle avec une chaise (Heels Chair) et bien plus encore…! Tu vas apprendre à révéler ta féminité tout en douceur.\n\n\n\n\n\n▔▔▔▔▔▔▔▔▔▔▔▔▔ \n💫 Ludivine | TOP MENEUSE ELGO\n🤜🤛 FB / IG / YT : @ludivine.ludidanse\n📧 ludidanse@hotmail.fr\n📲 06.21.82.88.29\n▔▔▔▔▔▔▔▔▔▔▔▔▔\nLa plupart des cours réguliers sont soumis aux vacances scolaires : nous vous conseillons de contacter la Meneuse en amont de votre participation.
URL:https://elgo-heels.com/events-elgo/cours-les-jeudis-avec-ludivine-a-choisy-le-roi-94/2026-04-23/
LOCATION:Pavillon des Lions (94)\, Pl. Pierre Sémard\, Choisy-le-Roi\, 94600\, France
CATEGORIES:Cours régulier,Cours Show
ATTACH;FMTTYPE=image/png:https://elgo-heels.com/wp-content/uploads/2019/01/Ludivine.png
ORGANIZER;CN="Ludivine":MAILTO:ludidanse@hotmail.fr
GEO:48.7653682;2.4104849
X-APPLE-STRUCTURED-LOCATION;VALUE=URI;X-ADDRESS=Pavillon des Lions (94) Pl. Pierre Sémard Choisy-le-Roi 94600 France;X-APPLE-RADIUS=500;X-TITLE=Pl. Pierre Sémard:geo:2.4104849,48.7653682
END:VEVENT
END:VCALENDAR