BEGIN:VCALENDAR
VERSION:2.0
PRODID:-//Elgo Heels - ECPv6.3.6//NONSGML v1.0//EN
CALSCALE:GREGORIAN
METHOD:PUBLISH
X-ORIGINAL-URL:https://elgo-heels.com
X-WR-CALDESC:évènements pour Elgo Heels
REFRESH-INTERVAL;VALUE=DURATION:PT1H
X-Robots-Tag:noindex
X-PUBLISHED-TTL:PT1H
BEGIN:VTIMEZONE
TZID:Europe/Paris
BEGIN:DAYLIGHT
TZOFFSETFROM:+0100
TZOFFSETTO:+0200
TZNAME:CEST
DTSTART:20200329T010000
END:DAYLIGHT
BEGIN:STANDARD
TZOFFSETFROM:+0200
TZOFFSETTO:+0100
TZNAME:CET
DTSTART:20201025T010000
END:STANDARD
END:VTIMEZONE
BEGIN:VEVENT
DTSTART;TZID=Europe/Paris:20200905T180000
DTEND;TZID=Europe/Paris:20200905T193000
DTSTAMP:20260421T162617
CREATED:20200816T114010Z
LAST-MODIFIED:20200816T114010Z
UID:10008498-1599328800-1599334200@elgo-heels.com
SUMMARY:Stage avec La Nina à Marseille (13)
DESCRIPTION:
URL:https://elgo-heels.com/events-elgo/stage-avec-la-nina-a-marseille-13/
LOCATION:Maison Montgrand\, 35 rue Montgrand\, marseille\, 13006\, France
CATEGORIES:Stages & Évènements,Stages & Évènements Dance
ATTACH;FMTTYPE=image/jpeg:https://elgo-heels.com/wp-content/uploads/2020/08/116876383_2748537445377788_5170408294683070729_n.jpg
ORGANIZER;CN="La Nina":MAILTO:darcovirginie7@gmail.com
GEO:43.291159;5.376363
X-APPLE-STRUCTURED-LOCATION;VALUE=URI;X-ADDRESS=Maison Montgrand 35 rue Montgrand marseille 13006 France;X-APPLE-RADIUS=500;X-TITLE=35 rue Montgrand:geo:5.376363,43.291159
END:VEVENT
BEGIN:VEVENT
DTSTART;TZID=Europe/Paris:20200213T183000
DTEND;TZID=Europe/Paris:20200213T193000
DTSTAMP:20260421T162617
CREATED:20200123T172411Z
LAST-MODIFIED:20200123T172411Z
UID:10008262-1581618600-1581622200@elgo-heels.com
SUMMARY:Stage avec La Nina à Marseille
DESCRIPTION:
URL:https://elgo-heels.com/events-elgo/stage-avec-la-nina-a-marseille-2/
LOCATION:Maison Montgrand\, 35 rue Montgrand\, marseille\, 13006\, France
CATEGORIES:Stages & Évènements,Stages & Évènements Dance
ATTACH;FMTTYPE=image/jpeg:https://elgo-heels.com/wp-content/uploads/2016/08/82581700_2579364028961798_4040924009120923648_o.jpg
ORGANIZER;CN="La Nina":MAILTO:darcovirginie7@gmail.com
GEO:43.291159;5.376363
X-APPLE-STRUCTURED-LOCATION;VALUE=URI;X-ADDRESS=Maison Montgrand 35 rue Montgrand marseille 13006 France;X-APPLE-RADIUS=500;X-TITLE=35 rue Montgrand:geo:5.376363,43.291159
END:VEVENT
END:VCALENDAR