BEGIN:VCALENDAR
VERSION:2.0
PRODID:-//Elgo Heels - ECPv6.3.6//NONSGML v1.0//EN
CALSCALE:GREGORIAN
METHOD:PUBLISH
X-ORIGINAL-URL:https://elgo-heels.com
X-WR-CALDESC:évènements pour Elgo Heels
REFRESH-INTERVAL;VALUE=DURATION:PT1H
X-Robots-Tag:noindex
X-PUBLISHED-TTL:PT1H
BEGIN:VTIMEZONE
TZID:Europe/Paris
BEGIN:DAYLIGHT
TZOFFSETFROM:+0100
TZOFFSETTO:+0200
TZNAME:CEST
DTSTART:20210328T010000
END:DAYLIGHT
BEGIN:STANDARD
TZOFFSETFROM:+0200
TZOFFSETTO:+0100
TZNAME:CET
DTSTART:20211031T010000
END:STANDARD
BEGIN:DAYLIGHT
TZOFFSETFROM:+0100
TZOFFSETTO:+0200
TZNAME:CEST
DTSTART:20220327T010000
END:DAYLIGHT
BEGIN:STANDARD
TZOFFSETFROM:+0200
TZOFFSETTO:+0100
TZNAME:CET
DTSTART:20221030T010000
END:STANDARD
BEGIN:DAYLIGHT
TZOFFSETFROM:+0100
TZOFFSETTO:+0200
TZNAME:CEST
DTSTART:20230326T010000
END:DAYLIGHT
BEGIN:STANDARD
TZOFFSETFROM:+0200
TZOFFSETTO:+0100
TZNAME:CET
DTSTART:20231029T010000
END:STANDARD
END:VTIMEZONE
BEGIN:VEVENT
DTSTART;TZID=Europe/Paris:20230630T200000
DTEND;TZID=Europe/Paris:20230630T210000
DTSTAMP:20260421T163829
CREATED:20210908T125730Z
LAST-MODIFIED:20220914T084223Z
UID:10013235-1688155200-1688158800@elgo-heels.com
SUMMARY:Cours le vendredi avec Sandra à Aumale (76)
DESCRIPTION:
URL:https://elgo-heels.com/events-elgo/cours-le-vendredi-avec-sandra-a-aumale-76/2023-06-30/
LOCATION:Liberty Fitness\, 5 bd victor hugo\, Aumale\, 76390\, France
CATEGORIES:Cours Dance,Cours Power,Cours régulier
ATTACH;FMTTYPE=image/jpeg:https://elgo-heels.com/wp-content/uploads/2022/05/cours-sandra-dance.jpg
ORGANIZER;CN="Sandra80":MAILTO:sandra135@elgo-dance.com
GEO:49.7718795;1.7552648
X-APPLE-STRUCTURED-LOCATION;VALUE=URI;X-ADDRESS=Liberty Fitness 5 bd victor hugo Aumale 76390 France;X-APPLE-RADIUS=500;X-TITLE=5 bd victor hugo:geo:1.7552648,49.7718795
END:VEVENT
BEGIN:VEVENT
DTSTART;TZID=Europe/Paris:20211031T100000
DTEND;TZID=Europe/Paris:20211031T110000
DTSTAMP:20260421T163829
CREATED:20211027T115728Z
LAST-MODIFIED:20211027T115728Z
UID:10013684-1635674400-1635678000@elgo-heels.com
SUMMARY:Stage avec Sandra à Aumale (76)
DESCRIPTION:
URL:https://elgo-heels.com/events-elgo/stage-avec-sandra-a-aumale-76/
LOCATION:Liberty Fitness\, 5 bd victor hugo\, Aumale\, 76390\, France
CATEGORIES:Stages & Évènements,Stages & Évènements Dance
ATTACH;FMTTYPE=image/jpeg:https://elgo-heels.com/wp-content/uploads/2021/10/stage-sandra-31oct2021.jpg
ORGANIZER;CN="Sandra80":MAILTO:sandra135@elgo-dance.com
GEO:49.7718795;1.7552648
X-APPLE-STRUCTURED-LOCATION;VALUE=URI;X-ADDRESS=Liberty Fitness 5 bd victor hugo Aumale 76390 France;X-APPLE-RADIUS=500;X-TITLE=5 bd victor hugo:geo:1.7552648,49.7718795
END:VEVENT
END:VCALENDAR