BEGIN:VCALENDAR
VERSION:2.0
PRODID:-//Elgo Heels - ECPv6.3.6//NONSGML v1.0//EN
CALSCALE:GREGORIAN
METHOD:PUBLISH
X-ORIGINAL-URL:https://elgo-heels.com
X-WR-CALDESC:évènements pour Elgo Heels
REFRESH-INTERVAL;VALUE=DURATION:PT1H
X-Robots-Tag:noindex
X-PUBLISHED-TTL:PT1H
BEGIN:VTIMEZONE
TZID:Europe/Paris
BEGIN:DAYLIGHT
TZOFFSETFROM:+0100
TZOFFSETTO:+0200
TZNAME:CEST
DTSTART:20220327T010000
END:DAYLIGHT
BEGIN:STANDARD
TZOFFSETFROM:+0200
TZOFFSETTO:+0100
TZNAME:CET
DTSTART:20221030T010000
END:STANDARD
END:VTIMEZONE
BEGIN:VEVENT
DTSTART;TZID=Europe/Paris:20221127T170000
DTEND;TZID=Europe/Paris:20221127T180000
DTSTAMP:20260421T164228
CREATED:20221012T111528Z
LAST-MODIFIED:20221115T112107Z
UID:10010108-1669568400-1669572000@elgo-heels.com
SUMMARY:Cours Découverte avec Ludivine à Villejuif (94)
DESCRIPTION:Retrouvez votre Top Meneuse Ludivine lors d’un évènement exceptionnel à l’occasion des 10 ans du Paris Bachata Festival.
URL:https://elgo-heels.com/events-elgo/cours-decouverte-avec-ludivine-a-villejuif-94/
LOCATION:Les Esselières\, Espace événementiel\, 3 Bd Chastenet de Géry\, Villejuif\, 94800
CATEGORIES:Stages & Évènements,Stages & Évènements Hot
ATTACH;FMTTYPE=image/png:https://elgo-heels.com/wp-content/uploads/2022/10/stage-ludi-hot-27nov2022.png
ORGANIZER;CN="Ludivine":MAILTO:ludidanse@hotmail.fr
GEO:48.8012973;2.3554135
X-APPLE-STRUCTURED-LOCATION;VALUE=URI;X-ADDRESS=Les Esselières Espace événementiel 3 Bd Chastenet de Géry Villejuif 94800;X-APPLE-RADIUS=500;X-TITLE=3 Bd Chastenet de Géry:geo:2.3554135,48.8012973
END:VEVENT
END:VCALENDAR