BEGIN:VCALENDAR
VERSION:2.0
PRODID:-//Elgo Heels - ECPv6.3.6//NONSGML v1.0//EN
CALSCALE:GREGORIAN
METHOD:PUBLISH
X-ORIGINAL-URL:https://elgo-heels.com
X-WR-CALDESC:évènements pour Elgo Heels
REFRESH-INTERVAL;VALUE=DURATION:PT1H
X-Robots-Tag:noindex
X-PUBLISHED-TTL:PT1H
BEGIN:VTIMEZONE
TZID:Europe/Paris
BEGIN:DAYLIGHT
TZOFFSETFROM:+0100
TZOFFSETTO:+0200
TZNAME:CEST
DTSTART:20260329T010000
END:DAYLIGHT
BEGIN:STANDARD
TZOFFSETFROM:+0200
TZOFFSETTO:+0100
TZNAME:CET
DTSTART:20261025T010000
END:STANDARD
END:VTIMEZONE
BEGIN:VEVENT
DTSTART;TZID=Europe/Paris:20260531T133000
DTEND;TZID=Europe/Paris:20260531T163000
DTSTAMP:20260421T135214
CREATED:20260331T092629Z
LAST-MODIFIED:20260402T092700Z
UID:10031938-1780234200-1780245000@elgo-heels.com
SUMMARY:Masterclass avec Aldja\, Eliz & Tess à Coulommiers (77)
DESCRIPTION:
URL:https://elgo-heels.com/events-elgo/masterclass-avec-aldja-eliz-tess-a-coulommiers-77/
LOCATION:La Ferme de Pontmoulin\, 3 Rue de Pontmoulin\, Coulommiers\, 77120\, France
CATEGORIES:Stages & Évènements,Stages & Evènements Show
ATTACH;FMTTYPE=image/png:https://elgo-heels.com/wp-content/uploads/2024/07/Tess-Vanessa.png
ORGANIZER;CN="Eliz":MAILTO:eliz.elgodance@gmail.com
GEO:48.8110692;3.1116686
X-APPLE-STRUCTURED-LOCATION;VALUE=URI;X-ADDRESS=La Ferme de Pontmoulin 3 Rue de Pontmoulin Coulommiers 77120 France;X-APPLE-RADIUS=500;X-TITLE=3 Rue de Pontmoulin:geo:3.1116686,48.8110692
END:VEVENT
END:VCALENDAR