BEGIN:VCALENDAR
VERSION:2.0
PRODID:-//Elgo Heels - ECPv6.3.6//NONSGML v1.0//EN
CALSCALE:GREGORIAN
METHOD:PUBLISH
X-ORIGINAL-URL:https://elgo-heels.com
X-WR-CALDESC:évènements pour Elgo Heels
REFRESH-INTERVAL;VALUE=DURATION:PT1H
X-Robots-Tag:noindex
X-PUBLISHED-TTL:PT1H
BEGIN:VTIMEZONE
TZID:Europe/Helsinki
BEGIN:DAYLIGHT
TZOFFSETFROM:+0200
TZOFFSETTO:+0300
TZNAME:EEST
DTSTART:20190331T010000
END:DAYLIGHT
BEGIN:STANDARD
TZOFFSETFROM:+0300
TZOFFSETTO:+0200
TZNAME:EET
DTSTART:20191027T010000
END:STANDARD
END:VTIMEZONE
BEGIN:VEVENT
DTSTART;TZID=Europe/Helsinki:20190824T140000
DTEND;TZID=Europe/Helsinki:20190824T150000
DTSTAMP:20260422T162651
CREATED:20190807T185925Z
LAST-MODIFIED:20190807T190017Z
UID:10006588-1566655200-1566658800@elgo-heels.com
SUMMARY:Stage avec Lili à Toulouse
DESCRIPTION:La célèbre école Francky Danse accueil notre chorgégraphe officielle pour un stage
URL:https://elgo-heels.com/events-elgo/stage-avec-lili-a-toulouse/
LOCATION:Ecole Francky Danse\, studio 7 impasse Boudeville 31100 Toulouse\, Toulouse\, 31100\, France
CATEGORIES:Stages & Évènements,Stages & Évènements Dance
ATTACH;FMTTYPE=image/jpeg:https://elgo-heels.com/wp-content/uploads/2019/08/lili-24-aout.jpg
GEO:43.5473016;1.3975076
X-APPLE-STRUCTURED-LOCATION;VALUE=URI;X-ADDRESS=Ecole Francky Danse studio 7 impasse Boudeville 31100 Toulouse Toulouse 31100 France;X-APPLE-RADIUS=500;X-TITLE=studio 7 impasse Boudeville 31100 Toulouse:geo:1.3975076,43.5473016
END:VEVENT
END:VCALENDAR