BEGIN:VCALENDAR
VERSION:2.0
PRODID:-//Elgo Heels - ECPv6.3.6//NONSGML v1.0//EN
CALSCALE:GREGORIAN
METHOD:PUBLISH
X-WR-CALNAME:Elgo Heels
X-ORIGINAL-URL:https://elgo-heels.com
X-WR-CALDESC:évènements pour Elgo Heels
REFRESH-INTERVAL;VALUE=DURATION:PT1H
X-Robots-Tag:noindex
X-PUBLISHED-TTL:PT1H
BEGIN:VTIMEZONE
TZID:Europe/Paris
BEGIN:DAYLIGHT
TZOFFSETFROM:+0100
TZOFFSETTO:+0200
TZNAME:CEST
DTSTART:20230326T010000
END:DAYLIGHT
BEGIN:STANDARD
TZOFFSETFROM:+0200
TZOFFSETTO:+0100
TZNAME:CET
DTSTART:20231029T010000
END:STANDARD
END:VTIMEZONE
BEGIN:VEVENT
DTSTART;TZID=Europe/Paris:20230629T130000
DTEND;TZID=Europe/Paris:20230629T140000
DTSTAMP:20260426T055106
CREATED:20220821T160204Z
LAST-MODIFIED:20220914T080243Z
UID:10015282-1688043600-1688047200@elgo-heels.com
SUMMARY:Cours le jeudi avec Lauriane à Guyancourt (78)
DESCRIPTION:
URL:https://elgo-heels.com/events-elgo/cours-le-jeudi-avec-lauriane-a-guyancourt-78/2023-06-29/
LOCATION:CSE Renault Guyancourt\, 1 avenue du Golf\, Guyancourt\, 78280
CATEGORIES:Cours régulier,Cours Show
ATTACH;FMTTYPE=image/png:https://elgo-heels.com/wp-content/uploads/2018/02/Lauriane.png
ORGANIZER;CN="Lauriane":MAILTO:lauriane15@elgo-dance.com
GEO:48.7576078;2.0854926
X-APPLE-STRUCTURED-LOCATION;VALUE=URI;X-ADDRESS=CSE Renault Guyancourt 1 avenue du Golf Guyancourt 78280;X-APPLE-RADIUS=500;X-TITLE=1 avenue du Golf:geo:2.0854926,48.7576078
END:VEVENT
END:VCALENDAR