BEGIN:VCALENDAR
VERSION:2.0
PRODID:-//Elgo Heels - ECPv6.3.6//NONSGML v1.0//EN
CALSCALE:GREGORIAN
METHOD:PUBLISH
X-WR-CALNAME:Elgo Heels
X-ORIGINAL-URL:https://elgo-heels.com
X-WR-CALDESC:évènements pour Elgo Heels
REFRESH-INTERVAL;VALUE=DURATION:PT1H
X-Robots-Tag:noindex
X-PUBLISHED-TTL:PT1H
BEGIN:VTIMEZONE
TZID:Europe/Paris
BEGIN:DAYLIGHT
TZOFFSETFROM:+0100
TZOFFSETTO:+0200
TZNAME:CEST
DTSTART:20240331T010000
END:DAYLIGHT
BEGIN:STANDARD
TZOFFSETFROM:+0200
TZOFFSETTO:+0100
TZNAME:CET
DTSTART:20241027T010000
END:STANDARD
END:VTIMEZONE
BEGIN:VEVENT
DTSTART;TZID=Europe/Paris:20240705T170000
DTEND;TZID=Europe/Paris:20240705T180000
DTSTAMP:20260421T165359
CREATED:20210923T125907Z
LAST-MODIFIED:20240115T133351Z
UID:10006613-1720198800-1720202400@elgo-heels.com
SUMMARY:Cours le vendredi avec Isabelle à Montreuil (93)
DESCRIPTION:Ouverture cours réguliers Elgo show pour le personnel hospitalier du CHI André Grégoire\nÀ compter du 2/02\, tous les vendredis de 17h-18h\n5 e le cours\nInscriptions obligatoires par mail :\nIsabelle.davidas@ght-gpne.fR
URL:https://elgo-heels.com/events-elgo/cours-avec-isabelle-a-neuilly-plaisance-93/2024-07-05/
LOCATION:CHI André Grégoire\, 56 Bd de la Boissière\, Montreuil\, 93100
CATEGORIES:Cours régulier,Cours Show
ATTACH;FMTTYPE=image/jpeg:https://elgo-heels.com/wp-content/uploads/2021/09/cours-isa-show-vendredi.jpg
ORGANIZER;CN="Isa":MAILTO:isa93@elgo-dance.com
GEO:48.8782141;2.4543069
X-APPLE-STRUCTURED-LOCATION;VALUE=URI;X-ADDRESS=CHI André Grégoire 56 Bd de la Boissière Montreuil 93100;X-APPLE-RADIUS=500;X-TITLE=56 Bd de la Boissière:geo:2.4543069,48.8782141
END:VEVENT
END:VCALENDAR