BEGIN:VCALENDAR
VERSION:2.0
PRODID:-//Elgo Heels - ECPv6.3.6//NONSGML v1.0//EN
CALSCALE:GREGORIAN
METHOD:PUBLISH
X-WR-CALNAME:Elgo Heels
X-ORIGINAL-URL:https://elgo-heels.com
X-WR-CALDESC:évènements pour Elgo Heels
REFRESH-INTERVAL;VALUE=DURATION:PT1H
X-Robots-Tag:noindex
X-PUBLISHED-TTL:PT1H
BEGIN:VTIMEZONE
TZID:Europe/Paris
BEGIN:DAYLIGHT
TZOFFSETFROM:+0100
TZOFFSETTO:+0200
TZNAME:CEST
DTSTART:20220327T010000
END:DAYLIGHT
BEGIN:STANDARD
TZOFFSETFROM:+0200
TZOFFSETTO:+0100
TZNAME:CET
DTSTART:20221030T010000
END:STANDARD
END:VTIMEZONE
BEGIN:VEVENT
DTSTART;TZID=Europe/Paris:20220212T150000
DTEND;TZID=Europe/Paris:20220212T160000
DTSTAMP:20260422T190034
CREATED:20220209T170745Z
LAST-MODIFIED:20220209T170745Z
UID:10013893-1644678000-1644681600@elgo-heels.com
SUMMARY:Cours le samedi avec Lauriane à Paris (75)
DESCRIPTION:
URL:https://elgo-heels.com/events-elgo/cours-le-samedi-avec-lauriane-a-paris-75/2022-02-12/
LOCATION:Centre Paris Anim René Binet\, 28 av de la porte de Montmartre\, Paris\, 75018\, France
CATEGORIES:Stages & Évènements,Stages & Évènements Hot
ATTACH;FMTTYPE=image/jpeg:https://elgo-heels.com/wp-content/uploads/2022/02/cours-lauriane-hot-paris18.jpg
ORGANIZER;CN="Lauriane":MAILTO:lauriane15@elgo-dance.com
GEO:48.9000424;2.3361063
X-APPLE-STRUCTURED-LOCATION;VALUE=URI;X-ADDRESS=Centre Paris Anim René Binet 28 av de la porte de Montmartre Paris 75018 France;X-APPLE-RADIUS=500;X-TITLE=28 av de la porte de Montmartre:geo:2.3361063,48.9000424
END:VEVENT
END:VCALENDAR