BEGIN:VCALENDAR
VERSION:2.0
PRODID:-//Elgo Heels - ECPv6.3.6//NONSGML v1.0//EN
CALSCALE:GREGORIAN
METHOD:PUBLISH
X-WR-CALNAME:Elgo Heels
X-ORIGINAL-URL:https://elgo-heels.com
X-WR-CALDESC:évènements pour Elgo Heels
REFRESH-INTERVAL;VALUE=DURATION:PT1H
X-Robots-Tag:noindex
X-PUBLISHED-TTL:PT1H
BEGIN:VTIMEZONE
TZID:Europe/Paris
BEGIN:DAYLIGHT
TZOFFSETFROM:+0100
TZOFFSETTO:+0200
TZNAME:CEST
DTSTART:20210328T010000
END:DAYLIGHT
BEGIN:STANDARD
TZOFFSETFROM:+0200
TZOFFSETTO:+0100
TZNAME:CET
DTSTART:20211031T010000
END:STANDARD
BEGIN:DAYLIGHT
TZOFFSETFROM:+0100
TZOFFSETTO:+0200
TZNAME:CEST
DTSTART:20220327T010000
END:DAYLIGHT
BEGIN:STANDARD
TZOFFSETFROM:+0200
TZOFFSETTO:+0100
TZNAME:CET
DTSTART:20221030T010000
END:STANDARD
BEGIN:DAYLIGHT
TZOFFSETFROM:+0100
TZOFFSETTO:+0200
TZNAME:CEST
DTSTART:20230326T010000
END:DAYLIGHT
BEGIN:STANDARD
TZOFFSETFROM:+0200
TZOFFSETTO:+0100
TZNAME:CET
DTSTART:20231029T010000
END:STANDARD
END:VTIMEZONE
BEGIN:VEVENT
DTSTART;TZID=Europe/Paris:20230630T181500
DTEND;TZID=Europe/Paris:20230630T191500
DTSTAMP:20260422T150841
CREATED:20220920T163205Z
LAST-MODIFIED:20220920T163205Z
UID:10016128-1688148900-1688152500@elgo-heels.com
SUMMARY:Cours le vendredi avec Marie-Lise à Nice (06)
DESCRIPTION:
URL:https://elgo-heels.com/events-elgo/cours-le-vendredi-avec-marie-lise-a-nice-06-2/2023-06-30/
LOCATION:1 rue Albert Voisin\, 1 rue Albert Voisin\, Nice\, 06000
CATEGORIES:Cours Dance,Cours régulier
ATTACH;FMTTYPE=image/jpeg:https://elgo-heels.com/wp-content/uploads/2021/09/cours-marielise-dance-nice.jpg
ORGANIZER;CN="Marie-Lise":MAILTO:marielise113@elgo-dance.com
GEO:43.7092893;7.2913093
X-APPLE-STRUCTURED-LOCATION;VALUE=URI;X-ADDRESS=1 rue Albert Voisin 1 rue Albert Voisin Nice 06000;X-APPLE-RADIUS=500;X-TITLE=1 rue Albert Voisin:geo:7.2913093,43.7092893
END:VEVENT
BEGIN:VEVENT
DTSTART;TZID=Europe/Paris:20210912T093000
DTEND;TZID=Europe/Paris:20210912T103000
DTSTAMP:20260422T150841
CREATED:20210908T131517Z
LAST-MODIFIED:20210908T131517Z
UID:10013253-1631439000-1631442600@elgo-heels.com
SUMMARY:Stage avec Marie-Lise à Nice (06)
DESCRIPTION:
URL:https://elgo-heels.com/events-elgo/stage-avec-marie-lise-a-nice-06/
LOCATION:1 rue Albert Voisin\, 1 rue Albert Voisin\, Nice\, 06000
CATEGORIES:Stages & Évènements,Stages & Évènements Dance
ATTACH;FMTTYPE=image/jpeg:https://elgo-heels.com/wp-content/uploads/2021/09/stage-marielise-dance-12sept2021.jpg
ORGANIZER;CN="Marie-Lise":MAILTO:marielise113@elgo-dance.com
GEO:43.7092893;7.2913093
X-APPLE-STRUCTURED-LOCATION;VALUE=URI;X-ADDRESS=1 rue Albert Voisin 1 rue Albert Voisin Nice 06000;X-APPLE-RADIUS=500;X-TITLE=1 rue Albert Voisin:geo:7.2913093,43.7092893
END:VEVENT
BEGIN:VEVENT
DTSTART;TZID=Europe/Paris:20210910T181500
DTEND;TZID=Europe/Paris:20210910T191500
DTSTAMP:20260422T150841
CREATED:20210908T131122Z
LAST-MODIFIED:20210908T131122Z
UID:10013251-1631297700-1631301300@elgo-heels.com
SUMMARY:Cours le vendredi avec Marie-Lise à Nice (06)
DESCRIPTION:
URL:https://elgo-heels.com/events-elgo/cours-le-vendredi-avec-marie-lise-a-nice-06/2021-09-10/
LOCATION:1 rue Albert Voisin\, 1 rue Albert Voisin\, Nice\, 06000
CATEGORIES:Cours Dance,Cours régulier
ATTACH;FMTTYPE=image/jpeg:https://elgo-heels.com/wp-content/uploads/2021/09/cours-marielise-dance-nice.jpg
ORGANIZER;CN="Marie-Lise":MAILTO:marielise113@elgo-dance.com
GEO:43.7092893;7.2913093
X-APPLE-STRUCTURED-LOCATION;VALUE=URI;X-ADDRESS=1 rue Albert Voisin 1 rue Albert Voisin Nice 06000;X-APPLE-RADIUS=500;X-TITLE=1 rue Albert Voisin:geo:7.2913093,43.7092893
END:VEVENT
END:VCALENDAR